BEGIN:VCALENDAR
VERSION:2.0
PRODID:-//wp-events-plugin.com//7.2.3.1//EN
TZID:America/Bogota
X-WR-TIMEZONE:America/Bogota
BEGIN:VEVENT
UID:492@ucaldas.edu.co
DTSTART;TZID=America/Bogota:20260220T083000
DTEND;TZID=America/Bogota:20260605T120000
DTSTAMP:20260225T134929Z
URL:https://www.ucaldas.edu.co/portal/eventos/toma-de-campus/
SUMMARY:TOMA DE CAMPUS
DESCRIPTION:
ATTACH;FMTTYPE=image/jpeg:https://www.ucaldas.edu.co/portal/wp-content/upl
 oads/2026/02/IMG_2141.jpg
END:VEVENT
BEGIN:VTIMEZONE
TZID:America/Bogota
X-LIC-LOCATION:America/Bogota
BEGIN:STANDARD
DTSTART:20250220T083000
TZOFFSETFROM:-0500
TZOFFSETTO:-0500
TZNAME:-05
END:STANDARD
END:VTIMEZONE
END:VCALENDAR