BEGIN:VCALENDAR
VERSION:2.0
PRODID:-//wp-events-plugin.com//7.2.3.1//EN
TZID:America/Bogota
X-WR-TIMEZONE:America/Bogota
BEGIN:VEVENT
UID:487@ucaldas.edu.co
DTSTART;TZID=America/Bogota:20260525T000000
DTEND;TZID=America/Bogota:20260528T000000
DTSTAMP:20260223T142402Z
URL:https://www.ucaldas.edu.co/portal/eventos/ponencias-y-experiencias-sem
 ana-de-la-ia/
SUMMARY:PONENCIAS Y EXPERIENCIAS - SEMANA DE LA IA
DESCRIPTION:
ATTACH;FMTTYPE=image/jpeg:https://www.ucaldas.edu.co/portal/wp-content/upl
 oads/2026/02/Captura-de-pantalla-2026-02-23-a-las-9.17.14.png
END:VEVENT
BEGIN:VTIMEZONE
TZID:America/Bogota
X-LIC-LOCATION:America/Bogota
BEGIN:STANDARD
DTSTART:20250525T000000
TZOFFSETFROM:-0500
TZOFFSETTO:-0500
TZNAME:-05
END:STANDARD
END:VTIMEZONE
END:VCALENDAR