BEGIN:VCALENDAR
VERSION:2.0
PRODID:-//wp-events-plugin.com//7.2.3.1//EN
TZID:America/Bogota
X-WR-TIMEZONE:America/Bogota
BEGIN:VEVENT
UID:491@ucaldas.edu.co
DTSTART;TZID=America/Bogota:20260228T110000
DTEND;TZID=America/Bogota:20260228T110000
DTSTAMP:20260223T160137Z
URL:https://www.ucaldas.edu.co/portal/eventos/parchate-primer-encuentro/
SUMMARY:PARCHATE - PRIMER ENCUENTRO
DESCRIPTION:
ATTACH;FMTTYPE=image/jpeg:https://www.ucaldas.edu.co/portal/wp-content/upl
 oads/2026/02/Captura-de-pantalla-2026-02-23-a-las-10.57.50.png
LOCATION:Cancha Bicentenario\, 65 #26-10\, Manizales\, Borrador\, Colombia
X-APPLE-STRUCTURED-LOCATION;VALUE=URI;X-ADDRESS=65 #26-10\, Manizales\, Bor
 rador\, Colombia;X-APPLE-RADIUS=100;X-TITLE=Cancha Bicentenario:geo:0,0
END:VEVENT
BEGIN:VTIMEZONE
TZID:America/Bogota
X-LIC-LOCATION:America/Bogota
BEGIN:STANDARD
DTSTART:20250228T110000
TZOFFSETFROM:-0500
TZOFFSETTO:-0500
TZNAME:-05
END:STANDARD
END:VTIMEZONE
END:VCALENDAR