BEGIN:VCALENDAR
VERSION:2.0
PRODID:-//wp-events-plugin.com//7.2.3.1//EN
TZID:America/Bogota
X-WR-TIMEZONE:America/Bogota
BEGIN:VEVENT
UID:497@ucaldas.edu.co
DTSTART;TZID=America/Bogota:20260226T140000
DTEND;TZID=America/Bogota:20260226T140000
DTSTAMP:20260226T160027Z
URL:https://www.ucaldas.edu.co/portal/eventos/inauguracion-red-ilumina-fit
 /
SUMMARY:INAUGURACIÓN RED ILÚMINA FIT
DESCRIPTION:[caption id="attachment_102820" align="alignnone" width="243"] 
 Screenshot[/caption]
ATTACH;FMTTYPE=image/jpeg:https://www.ucaldas.edu.co/portal/wp-content/upl
 oads/2026/02/IMG_2150.jpg
END:VEVENT
BEGIN:VTIMEZONE
TZID:America/Bogota
X-LIC-LOCATION:America/Bogota
BEGIN:STANDARD
DTSTART:20250226T140000
TZOFFSETFROM:-0500
TZOFFSETTO:-0500
TZNAME:-05
END:STANDARD
END:VTIMEZONE
END:VCALENDAR