BEGIN:VCALENDAR
VERSION:2.0
PRODID:-//wp-events-plugin.com//7.2.3.1//EN
TZID:America/Bogota
X-WR-TIMEZONE:America/Bogota
BEGIN:VEVENT
UID:501@ucaldas.edu.co
DTSTART;TZID=America/Bogota:20260228T160000
DTEND;TZID=America/Bogota:20260228T160000
DTSTAMP:20260226T161036Z
URL:https://www.ucaldas.edu.co/portal/eventos/chupacabra-club-de-dibujo/
SUMMARY:CHUPACABRA - CLUB DE DIBUJO
DESCRIPTION:[caption id="attachment_102831" align="alignnone" width="233"] 
 Screenshot[/caption]
ATTACH;FMTTYPE=image/jpeg:https://www.ucaldas.edu.co/portal/wp-content/upl
 oads/2026/02/IMG_2154-1.jpg
END:VEVENT
BEGIN:VTIMEZONE
TZID:America/Bogota
X-LIC-LOCATION:America/Bogota
BEGIN:STANDARD
DTSTART:20250228T160000
TZOFFSETFROM:-0500
TZOFFSETTO:-0500
TZNAME:-05
END:STANDARD
END:VTIMEZONE
END:VCALENDAR