BEGIN:VCALENDAR
VERSION:2.0
PRODID:-//wp-events-plugin.com//7.2.3.1//EN
TZID:America/Bogota
X-WR-TIMEZONE:America/Bogota
BEGIN:VEVENT
UID:489@ucaldas.edu.co
DTSTART;TZID=America/Bogota:20260228T080000
DTEND;TZID=America/Bogota:20260228T080000
DTSTAMP:20260223T143426Z
URL:https://www.ucaldas.edu.co/portal/eventos/audiciones-taller-de-opera/
SUMMARY:AUDICIONES TALLER DE OPERA
DESCRIPTION:
ATTACH;FMTTYPE=image/jpeg:https://www.ucaldas.edu.co/portal/wp-content/upl
 oads/2026/02/Captura-de-pantalla-2026-02-23-a-las-9.18.07.png
LOCATION:Sede Central Universidad de Caldas\, Cl. 65 #26-10\, Manizales\, C
 aldas\, Colombia
X-APPLE-STRUCTURED-LOCATION;VALUE=URI;X-ADDRESS=Cl. 65 #26-10\, Manizales\,
  Caldas\, Colombia;X-APPLE-RADIUS=100;X-TITLE=Sede Central Universidad de 
 Caldas:geo:0,0
END:VEVENT
BEGIN:VTIMEZONE
TZID:America/Bogota
X-LIC-LOCATION:America/Bogota
BEGIN:STANDARD
DTSTART:20250228T080000
TZOFFSETFROM:-0500
TZOFFSETTO:-0500
TZNAME:-05
END:STANDARD
END:VTIMEZONE
END:VCALENDAR